BEGIN:VCALENDAR
VERSION:2.0
PRODID:-//AKTUARVEREINIGUNG ÖSTERREICHS (AVÖ) - ECPv6.15.20//NONSGML v1.0//EN
CALSCALE:GREGORIAN
METHOD:PUBLISH
X-WR-CALNAME:AKTUARVEREINIGUNG ÖSTERREICHS (AVÖ)
X-ORIGINAL-URL:https://avoe.at
X-WR-CALDESC:Veranstaltungen für AKTUARVEREINIGUNG ÖSTERREICHS (AVÖ)
REFRESH-INTERVAL;VALUE=DURATION:PT1H
X-Robots-Tag:noindex
X-PUBLISHED-TTL:PT1H
BEGIN:VTIMEZONE
TZID:Europe/Vienna
BEGIN:DAYLIGHT
TZOFFSETFROM:+0100
TZOFFSETTO:+0200
TZNAME:CEST
DTSTART:20190331T010000
END:DAYLIGHT
BEGIN:STANDARD
TZOFFSETFROM:+0200
TZOFFSETTO:+0100
TZNAME:CET
DTSTART:20191027T010000
END:STANDARD
BEGIN:DAYLIGHT
TZOFFSETFROM:+0100
TZOFFSETTO:+0200
TZNAME:CEST
DTSTART:20200329T010000
END:DAYLIGHT
BEGIN:STANDARD
TZOFFSETFROM:+0200
TZOFFSETTO:+0100
TZNAME:CET
DTSTART:20201025T010000
END:STANDARD
BEGIN:DAYLIGHT
TZOFFSETFROM:+0100
TZOFFSETTO:+0200
TZNAME:CEST
DTSTART:20210328T010000
END:DAYLIGHT
BEGIN:STANDARD
TZOFFSETFROM:+0200
TZOFFSETTO:+0100
TZNAME:CET
DTSTART:20211031T010000
END:STANDARD
END:VTIMEZONE
BEGIN:VEVENT
DTSTART;VALUE=DATE:20201201
DTEND;VALUE=DATE:20201203
DTSTAMP:20260420T135905
CREATED:20201125T092847Z
LAST-MODIFIED:20201125T093749Z
UID:10000134-1606780800-1606953599@avoe.at
SUMMARY:EAA Web Session "Non-Life Pricing & Profitability Analysis Using Machine Learning Techniques with R Applications"
DESCRIPTION:The seminar will alternate between methodological concepts\, practical examples and case studies in order to ensure a comprehensive understanding of the techniques presented. \nThe participants will be requested to look at 4 e-learning modules (of around 30 minutes each) presenting the basics of machine learning before the web session. The access to these e-learning modules will be granted up to the end of the seminar.\nThese 4 e-learning modules are\n– Introduction to Machine learning\n– Supervised learning (parts 1 and 2)\n– Unsupervised learning \nThe case studies will be performed by the participants with the R software. An individual support can be available during the case study sessions through individual Teams meeting with the speakers.
URL:https://avoe.at/event/eaa-web-session-non-life-pricing-profitability-analysis-using-machine-learning-techniques-with-r-applications/
LOCATION:Wien
END:VEVENT
BEGIN:VEVENT
DTSTART;TZID=Europe/Vienna:20201201T163000
DTEND;TZID=Europe/Vienna:20201201T180000
DTSTAMP:20260420T135905
CREATED:20201217T101753Z
LAST-MODIFIED:20201217T104051Z
UID:10000165-1606840200-1606845600@avoe.at
SUMMARY:ÖFdV-Seminarreihe "Data Science im Live-Betrieb"
DESCRIPTION:Die ÖFdV GmbH veranstaltet eine fünfteilige Online-Seminarreihe mit Informationen von Praktikern für Praktiker. Die Vortragenden Fabian Pribahsnik und Dietmar Hareter zeigen\, wie Data-Science-Methoden im Arbeitsalltag angewendet werden können. Dabei beleuchten sie anhand von Use Cases die verschiedenen Aspekte eines Data-Science-Projekts. Für die erfolgreiche Teilnahme vergibt die ÖFdV GmbH acht CPD-Punkte zur beruflichen Weiterbildung. Weitere Details \nKosten: 390 Euro (inkl. Ust.) \nAnmeldung per Anmeldeformular \n  \n 
URL:https://avoe.at/event/oefdv-seminarreihe-data-science-im-live-betrieb/2020-12-01/
LOCATION:Wien
END:VEVENT
END:VCALENDAR