BEGIN:VCALENDAR
VERSION:2.0
PRODID:-//AKTUARVEREINIGUNG ÖSTERREICHS (AVÖ) - ECPv6.15.20//NONSGML v1.0//EN
CALSCALE:GREGORIAN
METHOD:PUBLISH
X-ORIGINAL-URL:https://avoe.at
X-WR-CALDESC:Veranstaltungen für AKTUARVEREINIGUNG ÖSTERREICHS (AVÖ)
REFRESH-INTERVAL;VALUE=DURATION:PT1H
X-Robots-Tag:noindex
X-PUBLISHED-TTL:PT1H
BEGIN:VTIMEZONE
TZID:Europe/Vienna
BEGIN:DAYLIGHT
TZOFFSETFROM:+0100
TZOFFSETTO:+0200
TZNAME:CEST
DTSTART:20190331T010000
END:DAYLIGHT
BEGIN:STANDARD
TZOFFSETFROM:+0200
TZOFFSETTO:+0100
TZNAME:CET
DTSTART:20191027T010000
END:STANDARD
BEGIN:DAYLIGHT
TZOFFSETFROM:+0100
TZOFFSETTO:+0200
TZNAME:CEST
DTSTART:20200329T010000
END:DAYLIGHT
BEGIN:STANDARD
TZOFFSETFROM:+0200
TZOFFSETTO:+0100
TZNAME:CET
DTSTART:20201025T010000
END:STANDARD
BEGIN:DAYLIGHT
TZOFFSETFROM:+0100
TZOFFSETTO:+0200
TZNAME:CEST
DTSTART:20210328T010000
END:DAYLIGHT
BEGIN:STANDARD
TZOFFSETFROM:+0200
TZOFFSETTO:+0100
TZNAME:CET
DTSTART:20211031T010000
END:STANDARD
END:VTIMEZONE
BEGIN:VEVENT
DTSTART;TZID=Europe/Vienna:20201209T100000
DTEND;TZID=Europe/Vienna:20201209T120000
DTSTAMP:20260420T140139
CREATED:20201125T093859Z
LAST-MODIFIED:20201125T093859Z
UID:10000135-1607508000-1607515200@avoe.at
SUMMARY:EAA Web Session "Cyber Insurance"
DESCRIPTION:Over the past years\, technological advances have greatly increased our dependency on digital technology. As a result\, consumers and businesses alike have become vulnerable to any form of distortion of their digital infrastructure. Due to the intangible nature and quickly changing character\, risk managers face a formidable challenge to effectively manage this ‘cyber risk’. One of the possible mitigation measures is to buy cyber risk insurance\, which may cover a plethora of expenses related to incidents in the digital realm. \nInsurers\, and the risk managers and actuaries working for them\, play a dual role in the cyber insurance industry\, offering both cyber insurance solutions as well as being exposed to cyber risk in their own organisation. In this web session\, we will explore both roles of the actuary/risk manager. We will provide an introduction to cyber insurance\, including its insurability and a discussion on the aftermath of a cyber incident\, while placing it in the broader context of cyber risk management. \nRegistration deadline: 7 Dec 2020
URL:https://avoe.at/event/eaa-web-session-cyber-insurance/
LOCATION:Wien
END:VEVENT
END:VCALENDAR