BEGIN:VCALENDAR
VERSION:2.0
PRODID:-//AKTUARVEREINIGUNG ÖSTERREICHS (AVÖ) - ECPv6.15.20//NONSGML v1.0//EN
CALSCALE:GREGORIAN
METHOD:PUBLISH
X-WR-CALNAME:AKTUARVEREINIGUNG ÖSTERREICHS (AVÖ)
X-ORIGINAL-URL:https://avoe.at
X-WR-CALDESC:Veranstaltungen für AKTUARVEREINIGUNG ÖSTERREICHS (AVÖ)
REFRESH-INTERVAL;VALUE=DURATION:PT1H
X-Robots-Tag:noindex
X-PUBLISHED-TTL:PT1H
BEGIN:VTIMEZONE
TZID:Europe/Vienna
BEGIN:DAYLIGHT
TZOFFSETFROM:+0100
TZOFFSETTO:+0200
TZNAME:CEST
DTSTART:20190331T010000
END:DAYLIGHT
BEGIN:STANDARD
TZOFFSETFROM:+0200
TZOFFSETTO:+0100
TZNAME:CET
DTSTART:20191027T010000
END:STANDARD
BEGIN:DAYLIGHT
TZOFFSETFROM:+0100
TZOFFSETTO:+0200
TZNAME:CEST
DTSTART:20200329T010000
END:DAYLIGHT
BEGIN:STANDARD
TZOFFSETFROM:+0200
TZOFFSETTO:+0100
TZNAME:CET
DTSTART:20201025T010000
END:STANDARD
BEGIN:DAYLIGHT
TZOFFSETFROM:+0100
TZOFFSETTO:+0200
TZNAME:CEST
DTSTART:20210328T010000
END:DAYLIGHT
BEGIN:STANDARD
TZOFFSETFROM:+0200
TZOFFSETTO:+0100
TZNAME:CET
DTSTART:20211031T010000
END:STANDARD
END:VTIMEZONE
BEGIN:VEVENT
DTSTART;VALUE=DATE:20201210
DTEND;VALUE=DATE:20201212
DTSTAMP:20260420T135915
CREATED:20201125T094114Z
LAST-MODIFIED:20201125T094114Z
UID:10000136-1607558400-1607731199@avoe.at
SUMMARY:EAA Web Session: CERA\, Module 0: A Refresher Course in Financial Mathematics and Risk Measurement
DESCRIPTION:The web session gives an introduction to modern financial mathematics\, derivative pricing and risk measurement. It is designed to prepare actuaries without adequate training in these fields for the quantitative parts of the CERA education. The web session is moreover an ideal learning opportunity for actuaries who want to get acquainted with or refresh their knowledge in these highly relevant fields. \nThis web session is one part in a course that consists of four modules. They can be booked as a whole series to fulfil the requirements for receiving the CERA designation\, or individually as CPD training. Written exams on the course are offered subsequently. \nPlease contact your actuarial association regarding the recognition of the seminars/web sessions and the exams. The national association has to be at least Acceding Party of the CERA Global Association so that an actuary who passes this course may receive the CERA credential. Please visit www.ceraglobal.org to get information if your association is entitled to issue the CERA designation.
URL:https://avoe.at/event/eaa-web-session-cera-module-0-a-refresher-course-in-financial-mathematics-and-risk-measurement/
LOCATION:Wien
END:VEVENT
END:VCALENDAR