BEGIN:VCALENDAR
VERSION:2.0
PRODID:-//AKTUARVEREINIGUNG ÖSTERREICHS (AVÖ) - ECPv6.15.20//NONSGML v1.0//EN
CALSCALE:GREGORIAN
METHOD:PUBLISH
X-ORIGINAL-URL:https://avoe.at
X-WR-CALDESC:Veranstaltungen für AKTUARVEREINIGUNG ÖSTERREICHS (AVÖ)
REFRESH-INTERVAL;VALUE=DURATION:PT1H
X-Robots-Tag:noindex
X-PUBLISHED-TTL:PT1H
BEGIN:VTIMEZONE
TZID:Europe/Vienna
BEGIN:DAYLIGHT
TZOFFSETFROM:+0100
TZOFFSETTO:+0200
TZNAME:CEST
DTSTART:20190331T010000
END:DAYLIGHT
BEGIN:STANDARD
TZOFFSETFROM:+0200
TZOFFSETTO:+0100
TZNAME:CET
DTSTART:20191027T010000
END:STANDARD
BEGIN:DAYLIGHT
TZOFFSETFROM:+0100
TZOFFSETTO:+0200
TZNAME:CEST
DTSTART:20200329T010000
END:DAYLIGHT
BEGIN:STANDARD
TZOFFSETFROM:+0200
TZOFFSETTO:+0100
TZNAME:CET
DTSTART:20201025T010000
END:STANDARD
BEGIN:DAYLIGHT
TZOFFSETFROM:+0100
TZOFFSETTO:+0200
TZNAME:CEST
DTSTART:20210328T010000
END:DAYLIGHT
BEGIN:STANDARD
TZOFFSETFROM:+0200
TZOFFSETTO:+0100
TZNAME:CET
DTSTART:20211031T010000
END:STANDARD
END:VTIMEZONE
BEGIN:VEVENT
DTSTART;TZID=Europe/Vienna:20201214T100000
DTEND;TZID=Europe/Vienna:20201214T160000
DTSTAMP:20260420T140059
CREATED:20201125T094320Z
LAST-MODIFIED:20201125T094320Z
UID:10000137-1607940000-1607961600@avoe.at
SUMMARY:EAA Web Session "Claims estimation for Non-Life Insurance Using MATLAB"
DESCRIPTION:We’ll be modelling Claims estimation using different traditional methods\, automating the whole workflow we encounter in our daily tasks: from data handling\, modelling and report generation (static or dynamic) as well as automatic component creation to be run by anyone\, anywhere via desktop or web. \nWe’ll also see alternative methods to be applied to this kind of problem as well as how to handle data which doesn’t fit in memory without compromising any accuracy. \nRegistration deadline: 13 Dec 2020
URL:https://avoe.at/event/eaa-web-session-claims-estimation-for-non-life-insurance-using-matlab/
LOCATION:Wien
END:VEVENT
END:VCALENDAR