BEGIN:VCALENDAR
VERSION:2.0
PRODID:-//AKTUARVEREINIGUNG ÖSTERREICHS (AVÖ) - ECPv6.15.20//NONSGML v1.0//EN
CALSCALE:GREGORIAN
METHOD:PUBLISH
X-ORIGINAL-URL:https://avoe.at
X-WR-CALDESC:Veranstaltungen für AKTUARVEREINIGUNG ÖSTERREICHS (AVÖ)
REFRESH-INTERVAL;VALUE=DURATION:PT1H
X-Robots-Tag:noindex
X-PUBLISHED-TTL:PT1H
BEGIN:VTIMEZONE
TZID:Europe/Vienna
BEGIN:DAYLIGHT
TZOFFSETFROM:+0100
TZOFFSETTO:+0200
TZNAME:CEST
DTSTART:20190331T010000
END:DAYLIGHT
BEGIN:STANDARD
TZOFFSETFROM:+0200
TZOFFSETTO:+0100
TZNAME:CET
DTSTART:20191027T010000
END:STANDARD
BEGIN:DAYLIGHT
TZOFFSETFROM:+0100
TZOFFSETTO:+0200
TZNAME:CEST
DTSTART:20200329T010000
END:DAYLIGHT
BEGIN:STANDARD
TZOFFSETFROM:+0200
TZOFFSETTO:+0100
TZNAME:CET
DTSTART:20201025T010000
END:STANDARD
BEGIN:DAYLIGHT
TZOFFSETFROM:+0100
TZOFFSETTO:+0200
TZNAME:CEST
DTSTART:20210328T010000
END:DAYLIGHT
BEGIN:STANDARD
TZOFFSETFROM:+0200
TZOFFSETTO:+0100
TZNAME:CET
DTSTART:20211031T010000
END:STANDARD
END:VTIMEZONE
BEGIN:VEVENT
DTSTART;VALUE=DATE:20201215
DTEND;VALUE=DATE:20201216
DTSTAMP:20260420T140140
CREATED:20201125T130937Z
LAST-MODIFIED:20210708T104535Z
UID:10000138-1607990400-1608076799@avoe.at
SUMMARY:EAA Web Session: Reform of Public Pension Schemes: Actuarial Challenges
DESCRIPTION:The objective of this web session is to present the concept of Automatic Adjustment mechanisms for social security pension\, based on real experiences in different countries. After a short reminder about public pension schemes\, we develop some philosophies of automatic adaptation\, including structural reforms such as NDC (notional account) or point systems. More theoretical models based on optimization programs will also be introduced.
URL:https://avoe.at/event/eaa-web-session-reform-of-public-pension-schemes-actuarial-challenges/
LOCATION:Wien
END:VEVENT
BEGIN:VEVENT
DTSTART;TZID=Europe/Vienna:20201215T163000
DTEND;TZID=Europe/Vienna:20201215T180000
DTSTAMP:20260420T140140
CREATED:20201217T101753Z
LAST-MODIFIED:20201217T104051Z
UID:10000166-1608049800-1608055200@avoe.at
SUMMARY:ÖFdV-Seminarreihe "Data Science im Live-Betrieb"
DESCRIPTION:Die ÖFdV GmbH veranstaltet eine fünfteilige Online-Seminarreihe mit Informationen von Praktikern für Praktiker. Die Vortragenden Fabian Pribahsnik und Dietmar Hareter zeigen\, wie Data-Science-Methoden im Arbeitsalltag angewendet werden können. Dabei beleuchten sie anhand von Use Cases die verschiedenen Aspekte eines Data-Science-Projekts. Für die erfolgreiche Teilnahme vergibt die ÖFdV GmbH acht CPD-Punkte zur beruflichen Weiterbildung. Weitere Details \nKosten: 390 Euro (inkl. Ust.) \nAnmeldung per Anmeldeformular \n  \n 
URL:https://avoe.at/event/oefdv-seminarreihe-data-science-im-live-betrieb/2020-12-15/
LOCATION:Wien
END:VEVENT
BEGIN:VEVENT
DTSTART;TZID=Europe/Vienna:20201215T163000
DTEND;TZID=Europe/Vienna:20201215T180000
DTSTAMP:20260420T140140
CREATED:20201217T105323Z
LAST-MODIFIED:20210812T134641Z
UID:10000167-1608049800-1608055200@avoe.at
SUMMARY:AMC: Liability-2-Step-Methodik
DESCRIPTION:Michael Kinzer (Michael Kinzer Consulting) und Bernd Weber (Zürich Versicherungs-Aktiengesellschaft) thematisieren in diesem Online-Vortrag des Actuarial Modelling Clubs (AMC) die Liability-2-Step-Methodik. Dabei handelt es sich um einen alternativen Modellierungsansatz\, welcher ohne eine Bestandsverdichtung auskommt\, die garantierten Verpflichtungen genau abbildet und die Cashflows aus zukünftiger Gewinnbeteiligung hinreichend gut approximiert. Zusätzlich können die Laufzeiten des stochastischen Bewertungsmodells deutlich reduziert werden. Neben einer Einführung in das zugrunde liegende aktuarielle Konzept\, liegt der Fokus des Online-Vortrags auf den Erfahrungen im praktischen Einsatz in Bezug auf Ergebnisqualität und Prozessoptimierung. Zudem wird aufgezeigt\, wie auf Grundlage dieser Methodik eine effiziente Analyse und Kommunikation aktuarieller Ergebnisse in einer zukünftigen Berichterstattung nach IFRS 17 ausgestaltet werden kann. \nDie AVÖ vergibt für die Teilnahme an dieser Veranstaltung einen CPD-Punkt. Bitte beachten Sie die Hinweise zur Anwesenheitsüberprüfung in der Online-Anmeldung.
URL:https://avoe.at/event/amc-liability-2-step-methodik/
LOCATION:Wien
CATEGORIES:Actuarial Modelling Club (AMC)
END:VEVENT
END:VCALENDAR