BEGIN:VCALENDAR
VERSION:2.0
PRODID:-//AKTUARVEREINIGUNG ÖSTERREICHS (AVÖ) - ECPv6.15.20//NONSGML v1.0//EN
CALSCALE:GREGORIAN
METHOD:PUBLISH
X-ORIGINAL-URL:https://avoe.at
X-WR-CALDESC:Veranstaltungen für AKTUARVEREINIGUNG ÖSTERREICHS (AVÖ)
REFRESH-INTERVAL;VALUE=DURATION:PT1H
X-Robots-Tag:noindex
X-PUBLISHED-TTL:PT1H
BEGIN:VTIMEZONE
TZID:Europe/Vienna
BEGIN:DAYLIGHT
TZOFFSETFROM:+0100
TZOFFSETTO:+0200
TZNAME:CEST
DTSTART:20200329T010000
END:DAYLIGHT
BEGIN:STANDARD
TZOFFSETFROM:+0200
TZOFFSETTO:+0100
TZNAME:CET
DTSTART:20201025T010000
END:STANDARD
BEGIN:DAYLIGHT
TZOFFSETFROM:+0100
TZOFFSETTO:+0200
TZNAME:CEST
DTSTART:20210328T010000
END:DAYLIGHT
BEGIN:STANDARD
TZOFFSETFROM:+0200
TZOFFSETTO:+0100
TZNAME:CET
DTSTART:20211031T010000
END:STANDARD
BEGIN:DAYLIGHT
TZOFFSETFROM:+0100
TZOFFSETTO:+0200
TZNAME:CEST
DTSTART:20220327T010000
END:DAYLIGHT
BEGIN:STANDARD
TZOFFSETFROM:+0200
TZOFFSETTO:+0100
TZNAME:CET
DTSTART:20221030T010000
END:STANDARD
END:VTIMEZONE
BEGIN:VEVENT
DTSTART;VALUE=DATE:20211020
DTEND;VALUE=DATE:20211118
DTSTAMP:20260421T113354
CREATED:20210902T112919Z
LAST-MODIFIED:20210902T113616Z
UID:10000225-1634688000-1637193599@avoe.at
SUMMARY:GVfW: Verständlich erklärt: Best Estimate und Solvenzkapitalerfordernis (online)
DESCRIPTION:Unter dem Titel „Verständlich erklärt“ bietet die Gesellschaft für Versicherungsfachwissen eine neue Reihe an\, in der komplexe Inhalte in einer verständlichen Form und Sprache für nicht direkt mit dem jeweiligen Thema befasste Personen aufgearbeitet werden. Ziel ist\, den Teilnehmern eine ganzheitliche Sichtweise auf ein Versicherungsunternehmen zu ermöglichen\, um die Komplexität des Versicherungsgeschäftes noch besser kennen zu lernen und in das eigene Tätigkeitsfeld einordnen zu können. Diese Reihe ist auch für Personen geeignet\, die neu in ein Fachgebiet einsteigen. \nVerständlich erklärt: Best Estimate und Solvenzkapitalerfordernis: \n\nÜberblick über die wesentlichen Inhalte und Methoden der Solvenzkapitalermittlung\nÜberblick über die Berechnung des Best Estimate\nVerbessertes Verständnis für diese komplexen Konzepte sowie für die Bedeutung wesentlicher Einflussgrößen\n\nSorgen Sie dafür\, wesentliche Zusammenhänge zu verstehen – Sorgen Sie dafür\, das Praxiswissen zu haben\, welches Sie besser handeln lässt! \nVon 20. Oktober  bis 17. November 2021 können Sie dieses Angebot online – und zeitlich vollkommen flexibel – absolvieren. Die GVfW vergibt für die erfolgreiche Absolvierung des Kurses 1\,5 IDD-Punkte.
URL:https://avoe.at/event/gvfw-verstaendlich-erklaert-best-estimate-und-solvenzkapitalerfordernis-online/
LOCATION:Online/Streaming
CATEGORIES:Österreichische Gesellschaft für Versicherungsfachwissen (GVfW)
END:VEVENT
BEGIN:VEVENT
DTSTART;TZID=Europe/Vienna:20211110T100000
DTEND;TZID=Europe/Vienna:20211110T120000
DTSTAMP:20260421T113354
CREATED:20210630T154108Z
LAST-MODIFIED:20210630T154108Z
UID:10000030-1636538400-1636545600@avoe.at
SUMMARY:EAA Web Session: Longevity Heterogeneity and Pension Schemes
DESCRIPTION:Many demographic studies have shown an important positive relationship between life expectancy and socio economic conditions. Shortly summarized\, we could say that rich people live longer than poor people. The correlation can be observed\, based on different indicators such as education level\, wealth or level of income. The gap in terms of life expectancy is even widening and can go nowadays beyond 10 years. This reality has strange effects\, especially on public pension schemes\, paying lifetime annuities from retirement age. Indeed\, social security systems are normally based on redistribution and solidarity principles. However\, inequalities in terms of life expectancy generate regressive effects and induce indirect transfers from the poorest to the wealthiest affiliates. We could then apply different kinds of actuarial corrections on the pension design in order to compensate partially or totally this effect and restore some form of redistribution\, as well in DB (Defined Benefit) as in DC (Defined Contribution) pension schemes. \nRegistration deadline: 8 November 2021
URL:https://avoe.at/event/eaa-web-session-longevity-heterogeneity-and-pension-schemes-2/
LOCATION:Wien
CATEGORIES:European Actuarial Academy (EAA)
END:VEVENT
END:VCALENDAR