BEGIN:VCALENDAR
VERSION:2.0
PRODID:-//AKTUARVEREINIGUNG ÖSTERREICHS (AVÖ) - ECPv6.15.20//NONSGML v1.0//EN
CALSCALE:GREGORIAN
METHOD:PUBLISH
X-ORIGINAL-URL:https://avoe.at
X-WR-CALDESC:Veranstaltungen für AKTUARVEREINIGUNG ÖSTERREICHS (AVÖ)
REFRESH-INTERVAL;VALUE=DURATION:PT1H
X-Robots-Tag:noindex
X-PUBLISHED-TTL:PT1H
BEGIN:VTIMEZONE
TZID:UTC
BEGIN:STANDARD
TZOFFSETFROM:+0000
TZOFFSETTO:+0000
TZNAME:UTC
DTSTART:20210101T000000
END:STANDARD
END:VTIMEZONE
BEGIN:VEVENT
DTSTART;VALUE=DATE:20220614
DTEND;VALUE=DATE:20220716
DTSTAMP:20260420T102031
CREATED:20220411T130001Z
LAST-MODIFIED:20220411T130001Z
UID:10000259-1655164800-1657929599@avoe.at
SUMMARY:Cyber Security: „Facts\, Trends und regulatorische Anforderungen“
DESCRIPTION:In dieser Veranstaltung erfahren Sie aus erster Hand alles über die Cyber- Abwehr als Prozess der laufende Awareness aller Unternehmensbereich die Erwartung von Regulierung und Aufsicht inklusive internationaler Aspekte die Sicht- und Herangehensweise von Beratern und Prüfern. \nAnmeldeschluss: 2022-06-28\nLink: https://www.gvfw.at/gvfw/gvfw.nsf/sysPages/75048DAEC55E82BFC125881700383ED1 \nKosten: 419€
URL:https://avoe.at/event/cyber-security-facts-trends-und-regulatorische-anforderungen-2/
LOCATION:Wien
CATEGORIES:Österreichische Gesellschaft für Versicherungsfachwissen (GVfW)
END:VEVENT
BEGIN:VEVENT
DTSTART;TZID=UTC:20220623T100000
DTEND;TZID=UTC:20220623T120000
DTSTAMP:20260420T102031
CREATED:20220221T090130Z
LAST-MODIFIED:20220221T120444Z
UID:10000054-1655978400-1655985600@avoe.at
SUMMARY:EAA Web Session: How to Read the New IFRS Balance Sheet for Insurers
DESCRIPTION:The goal of the two hours web session is to provide participants with a comprehensive introduction on the new IFRS reporting requirements for insurance contracts after go-live of IFRS 17. Focus will be the illustration of the new reporting requirements of IFRS 17 to „demystify“ the new presentation requirements on the IFRS balance sheet and the statement(s) of financial performance (Profit and Loss as well as Other Comprehensive Income). The web session will also briefly compare key aspects of the new reporting requirements to today’s IFRS 4-reporting practice\, contain a brief summary of the main information which can be found within the new IFRS 17 reporting and cover the different aspects for primary and reinsurance related business. \nOverall\, the goal is to enable participants to understand the IFRS 17 reporting and help transferring the reporting requirements into the specific situation of the participant. It is thus intended to prepare participants for implementation\, testing\, reviewing and consulting with management\, accounting and auditors. \nRegistration deadline: 21 June 2022
URL:https://avoe.at/event/eaa-web-session-how-to-read-the-new-ifrs-balance-sheet-for-insurers/
LOCATION:Online-Veranstaltung (MS Teams)
CATEGORIES:European Actuarial Academy (EAA)
END:VEVENT
END:VCALENDAR