BEGIN:VCALENDAR
VERSION:2.0
PRODID:-//AKTUARVEREINIGUNG ÖSTERREICHS (AVÖ) - ECPv6.15.20//NONSGML v1.0//EN
CALSCALE:GREGORIAN
METHOD:PUBLISH
X-ORIGINAL-URL:https://avoe.at
X-WR-CALDESC:Veranstaltungen für AKTUARVEREINIGUNG ÖSTERREICHS (AVÖ)
REFRESH-INTERVAL;VALUE=DURATION:PT1H
X-Robots-Tag:noindex
X-PUBLISHED-TTL:PT1H
BEGIN:VTIMEZONE
TZID:Europe/Vienna
BEGIN:DAYLIGHT
TZOFFSETFROM:+0100
TZOFFSETTO:+0200
TZNAME:CEST
DTSTART:20220327T010000
END:DAYLIGHT
BEGIN:STANDARD
TZOFFSETFROM:+0200
TZOFFSETTO:+0100
TZNAME:CET
DTSTART:20221030T010000
END:STANDARD
BEGIN:DAYLIGHT
TZOFFSETFROM:+0100
TZOFFSETTO:+0200
TZNAME:CEST
DTSTART:20230326T010000
END:DAYLIGHT
BEGIN:STANDARD
TZOFFSETFROM:+0200
TZOFFSETTO:+0100
TZNAME:CET
DTSTART:20231029T010000
END:STANDARD
BEGIN:DAYLIGHT
TZOFFSETFROM:+0100
TZOFFSETTO:+0200
TZNAME:CEST
DTSTART:20240331T010000
END:DAYLIGHT
BEGIN:STANDARD
TZOFFSETFROM:+0200
TZOFFSETTO:+0100
TZNAME:CET
DTSTART:20241027T010000
END:STANDARD
END:VTIMEZONE
BEGIN:VEVENT
DTSTART;TZID=Europe/Vienna:20230605T090000
DTEND;TZID=Europe/Vienna:20230606T163000
DTSTAMP:20260420T201614
CREATED:20230220T124053Z
LAST-MODIFIED:20230323T211231Z
UID:10000292-1685955600-1686069000@avoe.at
SUMMARY:EAA Web Session: ML Explainability in Actuarial Data Science: A Practical Primer
DESCRIPTION:These days\, nobody disputes the profound impact and yet-untouched potential of Machine Learning and Artificial Intelligence anymore. Yet\, in the actuarial sciences\, these breakthrough possibilities are hampered by regulation\, the need for numerical confidence and insight into model decision making\, the latter being subsumed as a „black box problem“. Thus\, the quest for explainability is in fact much more pressing than in any other industry. \n  \nThis upcoming seminar on ML explainability aims to provide insights into the areas of unsupervised learning\, supervised learning and artificial neural nets via model-agnostic explainability approaches\, while providing opportunities to try out the methods yourself! \n  \nParticipants are expected to have\, apart from actuarial basics\, a preliminary grasp on Machine Learning and hypothesis testing as well as the R and/or Python languages. \nAnmeldeschluss: 2023-06-01 \nLink: https://actuarial-academy.com/seminars/seminar?No=E0339
URL:https://avoe.at/event/eaa-web-session-ml-explainability-in-actuarial-data-science-a-practical-primer/
LOCATION:Wien
CATEGORIES:European Actuarial Academy (EAA)
END:VEVENT
END:VCALENDAR