BEGIN:VCALENDAR
VERSION:2.0
PRODID:-//AKTUARVEREINIGUNG ÖSTERREICHS (AVÖ) - ECPv6.15.20//NONSGML v1.0//EN
CALSCALE:GREGORIAN
METHOD:PUBLISH
X-ORIGINAL-URL:https://avoe.at
X-WR-CALDESC:Veranstaltungen für AKTUARVEREINIGUNG ÖSTERREICHS (AVÖ)
REFRESH-INTERVAL;VALUE=DURATION:PT1H
X-Robots-Tag:noindex
X-PUBLISHED-TTL:PT1H
BEGIN:VTIMEZONE
TZID:Europe/Vienna
BEGIN:DAYLIGHT
TZOFFSETFROM:+0100
TZOFFSETTO:+0200
TZNAME:CEST
DTSTART:20220327T010000
END:DAYLIGHT
BEGIN:STANDARD
TZOFFSETFROM:+0200
TZOFFSETTO:+0100
TZNAME:CET
DTSTART:20221030T010000
END:STANDARD
BEGIN:DAYLIGHT
TZOFFSETFROM:+0100
TZOFFSETTO:+0200
TZNAME:CEST
DTSTART:20230326T010000
END:DAYLIGHT
BEGIN:STANDARD
TZOFFSETFROM:+0200
TZOFFSETTO:+0100
TZNAME:CET
DTSTART:20231029T010000
END:STANDARD
BEGIN:DAYLIGHT
TZOFFSETFROM:+0100
TZOFFSETTO:+0200
TZNAME:CEST
DTSTART:20240331T010000
END:DAYLIGHT
BEGIN:STANDARD
TZOFFSETFROM:+0200
TZOFFSETTO:+0100
TZNAME:CET
DTSTART:20241027T010000
END:STANDARD
END:VTIMEZONE
BEGIN:VEVENT
DTSTART;TZID=Europe/Vienna:20230620T100000
DTEND;TZID=Europe/Vienna:20230620T153000
DTSTAMP:20260420T113448
CREATED:20230323T211743Z
LAST-MODIFIED:20230323T211743Z
UID:10000309-1687255200-1687275000@avoe.at
SUMMARY:Mandatory Sustainability Reporting for Insurers – Actuarial Roles
DESCRIPTION:Up to 2022 additional financial reporting on sustainability has been done on a voluntary basis by insurance companies. The reporting companies\, usually larger groups\, regularly involve actuaries in the corresponding preparation of information. \n\nEarly in 2022 relevant institutions have started to prepare concrete financial reporting requirements at European level\, which will become mandatory for insurance companies as well. Consultations have been underway since the end of March. From 2023\, corresponding information will then have to be included in the notes to the annual reports. Quantitative information on sustainability will also be published. That will be the task of actuaries. \n\n\n\n\n 
URL:https://avoe.at/event/mandatory-sustainability-reporting-for-insurers-actuarial-roles/
LOCATION:Wien
CATEGORIES:European Actuarial Academy (EAA)
END:VEVENT
END:VCALENDAR