BEGIN:VCALENDAR
VERSION:2.0
PRODID:-//AKTUARVEREINIGUNG ÖSTERREICHS (AVÖ) - ECPv6.15.20//NONSGML v1.0//EN
CALSCALE:GREGORIAN
METHOD:PUBLISH
X-ORIGINAL-URL:https://avoe.at
X-WR-CALDESC:Veranstaltungen für AKTUARVEREINIGUNG ÖSTERREICHS (AVÖ)
REFRESH-INTERVAL;VALUE=DURATION:PT1H
X-Robots-Tag:noindex
X-PUBLISHED-TTL:PT1H
BEGIN:VTIMEZONE
TZID:Europe/Vienna
BEGIN:DAYLIGHT
TZOFFSETFROM:+0100
TZOFFSETTO:+0200
TZNAME:CEST
DTSTART:20240331T010000
END:DAYLIGHT
BEGIN:STANDARD
TZOFFSETFROM:+0200
TZOFFSETTO:+0100
TZNAME:CET
DTSTART:20241027T010000
END:STANDARD
BEGIN:DAYLIGHT
TZOFFSETFROM:+0100
TZOFFSETTO:+0200
TZNAME:CEST
DTSTART:20250330T010000
END:DAYLIGHT
BEGIN:STANDARD
TZOFFSETFROM:+0200
TZOFFSETTO:+0100
TZNAME:CET
DTSTART:20251026T010000
END:STANDARD
BEGIN:DAYLIGHT
TZOFFSETFROM:+0100
TZOFFSETTO:+0200
TZNAME:CEST
DTSTART:20260329T010000
END:DAYLIGHT
BEGIN:STANDARD
TZOFFSETFROM:+0200
TZOFFSETTO:+0100
TZNAME:CET
DTSTART:20261025T010000
END:STANDARD
END:VTIMEZONE
BEGIN:VEVENT
DTSTART;TZID=Europe/Vienna:20250923T100000
DTEND;TZID=Europe/Vienna:20250923T120000
DTSTAMP:20260420T102104
CREATED:20250411T105029Z
LAST-MODIFIED:20250411T105029Z
UID:10000528-1758621600-1758628800@avoe.at
SUMMARY:EAA Web Session "IFRS 17 Risk Adjustment: Practical Approaches & Lessons Learned"
DESCRIPTION:This web session is designed to be valuable for participants affected by IFRS-reporting\, for example working as actuarial\, finance\, controlling or risk experts. It is also beneficial for those interested in gaining a deeper understanding of the practical application of this critical component of the standard. The session will provide insights and guidance on good practices for implementing the risk adjustment within the framework of IFRS 17.\nAnmeldeschluss: 2025-09-21\nLink: https://actuarial-academy.com/seminars/seminar?No=E0505
URL:https://avoe.at/event/eaa-web-session-ifrs-17-risk-adjustment-practical-approaches-lessons-learned-2/
LOCATION:Online/Streaming
CATEGORIES:European Actuarial Academy (EAA)
END:VEVENT
END:VCALENDAR