BEGIN:VCALENDAR
VERSION:2.0
PRODID:-//AKTUARVEREINIGUNG ÖSTERREICHS (AVÖ) - ECPv6.15.20//NONSGML v1.0//EN
CALSCALE:GREGORIAN
METHOD:PUBLISH
X-WR-CALNAME:AKTUARVEREINIGUNG ÖSTERREICHS (AVÖ)
X-ORIGINAL-URL:https://avoe.at
X-WR-CALDESC:Veranstaltungen für AKTUARVEREINIGUNG ÖSTERREICHS (AVÖ)
REFRESH-INTERVAL;VALUE=DURATION:PT1H
X-Robots-Tag:noindex
X-PUBLISHED-TTL:PT1H
BEGIN:VTIMEZONE
TZID:Europe/Vienna
BEGIN:DAYLIGHT
TZOFFSETFROM:+0100
TZOFFSETTO:+0200
TZNAME:CEST
DTSTART:20250330T010000
END:DAYLIGHT
BEGIN:STANDARD
TZOFFSETFROM:+0200
TZOFFSETTO:+0100
TZNAME:CET
DTSTART:20251026T010000
END:STANDARD
BEGIN:DAYLIGHT
TZOFFSETFROM:+0100
TZOFFSETTO:+0200
TZNAME:CEST
DTSTART:20260329T010000
END:DAYLIGHT
BEGIN:STANDARD
TZOFFSETFROM:+0200
TZOFFSETTO:+0100
TZNAME:CET
DTSTART:20261025T010000
END:STANDARD
BEGIN:DAYLIGHT
TZOFFSETFROM:+0100
TZOFFSETTO:+0200
TZNAME:CEST
DTSTART:20270328T010000
END:DAYLIGHT
BEGIN:STANDARD
TZOFFSETFROM:+0200
TZOFFSETTO:+0100
TZNAME:CET
DTSTART:20271031T010000
END:STANDARD
END:VTIMEZONE
BEGIN:VEVENT
DTSTART;TZID=Europe/Vienna:20260203T100000
DTEND;TZID=Europe/Vienna:20260203T120000
DTSTAMP:20260424T155620
CREATED:20251023T110447Z
LAST-MODIFIED:20251023T110447Z
UID:10000567-1770112800-1770120000@avoe.at
SUMMARY:AI in Insurance: Strategic Imperative & The Actuary’s New Frontier
DESCRIPTION:The insurance industry is undergoing a profound transformation\, driven by the integration of\nArtificial Intelligence (AI) technologies across the entire value chain. From underwriting and pricing to claims handling and customer interaction\, AI is reshaping traditional processes and enabling insurers to operate with greater speed\, precision\, and insight. As AI becomes a strategic lever for sustainable value creation\, insurers must address not only technical implementation but also governance\, regulatory compliance\, and ethical considerations.\nThis transformation creates a pivotal opportunity for actuaries. With their deep expertise in the insurance business\, data and risk modeling\, and the regulatory landscape\, actuaries are\nuniquely positioned to lead AI initiatives. Their role is evolving – from traditional tasks such as valuation and reserving to becoming key enablers of AI-driven innovation. Crucially\, actuaries can drive AI-powered solutions not only within their core actuarial functions but also across the entire organization. By bridging the gap between data science and business strategy\, they ensure that AI solutions are technically robust\, aligned with business objectives\, and compliant with regulatory expectations. Now is the time for actuaries to embrace this expanded role and actively shape the future of insurance.
URL:https://avoe.at/event/ai-in-insurance-strategic-imperative-the-actuarys-new-frontier/
LOCATION:Online/Streaming
CATEGORIES:European Actuarial Academy (EAA)
END:VEVENT
END:VCALENDAR