BEGIN:VCALENDAR
VERSION:2.0
PRODID:-//AKTUARVEREINIGUNG ÖSTERREICHS (AVÖ) - ECPv6.15.20//NONSGML v1.0//EN
CALSCALE:GREGORIAN
METHOD:PUBLISH
X-ORIGINAL-URL:https://avoe.at
X-WR-CALDESC:Veranstaltungen für AKTUARVEREINIGUNG ÖSTERREICHS (AVÖ)
REFRESH-INTERVAL;VALUE=DURATION:PT1H
X-Robots-Tag:noindex
X-PUBLISHED-TTL:PT1H
BEGIN:VTIMEZONE
TZID:Europe/Vienna
BEGIN:DAYLIGHT
TZOFFSETFROM:+0100
TZOFFSETTO:+0200
TZNAME:CEST
DTSTART:20250330T010000
END:DAYLIGHT
BEGIN:STANDARD
TZOFFSETFROM:+0200
TZOFFSETTO:+0100
TZNAME:CET
DTSTART:20251026T010000
END:STANDARD
BEGIN:DAYLIGHT
TZOFFSETFROM:+0100
TZOFFSETTO:+0200
TZNAME:CEST
DTSTART:20260329T010000
END:DAYLIGHT
BEGIN:STANDARD
TZOFFSETFROM:+0200
TZOFFSETTO:+0100
TZNAME:CET
DTSTART:20261025T010000
END:STANDARD
BEGIN:DAYLIGHT
TZOFFSETFROM:+0100
TZOFFSETTO:+0200
TZNAME:CEST
DTSTART:20270328T010000
END:DAYLIGHT
BEGIN:STANDARD
TZOFFSETFROM:+0200
TZOFFSETTO:+0100
TZNAME:CET
DTSTART:20271031T010000
END:STANDARD
END:VTIMEZONE
BEGIN:VEVENT
DTSTART;TZID=Europe/Vienna:20260520T093000
DTEND;TZID=Europe/Vienna:20260520T170000
DTSTAMP:20260424T144309
CREATED:20251023T102248Z
LAST-MODIFIED:20251023T102248Z
UID:10000564-1779269400-1779296400@avoe.at
SUMMARY:EAA e-Conference on Data Science & Data Ethics
DESCRIPTION:In an era marked by unprecedented technological advancements\, the actuarial landscape has experienced profound transformations. The exponential growth of computational power and the abundance of data have converged and provide an exciting opportunity for the actuarial profession\nto redefine its boundaries and explore the ethical implications of this new field.\nThe role of actuaries is evolving at an incredible pace but remains incompletely defined. We are at a crucial point where a new understanding of the possibilities of actuarial science and its ethical obligations needs to be created.
URL:https://avoe.at/event/eaa-e-conference-on-data-science-data-ethics-6/
LOCATION:Online/Streaming
CATEGORIES:European Actuarial Academy (EAA)
END:VEVENT
END:VCALENDAR