BEGIN:VCALENDAR
VERSION:2.0
PRODID:-//AKTUARVEREINIGUNG ÖSTERREICHS (AVÖ) - ECPv6.15.20//NONSGML v1.0//EN
CALSCALE:GREGORIAN
METHOD:PUBLISH
X-WR-CALNAME:AKTUARVEREINIGUNG ÖSTERREICHS (AVÖ)
X-ORIGINAL-URL:https://avoe.at
X-WR-CALDESC:Veranstaltungen für AKTUARVEREINIGUNG ÖSTERREICHS (AVÖ)
REFRESH-INTERVAL;VALUE=DURATION:PT1H
X-Robots-Tag:noindex
X-PUBLISHED-TTL:PT1H
BEGIN:VTIMEZONE
TZID:Europe/Vienna
BEGIN:DAYLIGHT
TZOFFSETFROM:+0100
TZOFFSETTO:+0200
TZNAME:CEST
DTSTART:20250330T010000
END:DAYLIGHT
BEGIN:STANDARD
TZOFFSETFROM:+0200
TZOFFSETTO:+0100
TZNAME:CET
DTSTART:20251026T010000
END:STANDARD
BEGIN:DAYLIGHT
TZOFFSETFROM:+0100
TZOFFSETTO:+0200
TZNAME:CEST
DTSTART:20260329T010000
END:DAYLIGHT
BEGIN:STANDARD
TZOFFSETFROM:+0200
TZOFFSETTO:+0100
TZNAME:CET
DTSTART:20261025T010000
END:STANDARD
BEGIN:DAYLIGHT
TZOFFSETFROM:+0100
TZOFFSETTO:+0200
TZNAME:CEST
DTSTART:20270328T010000
END:DAYLIGHT
BEGIN:STANDARD
TZOFFSETFROM:+0200
TZOFFSETTO:+0100
TZNAME:CET
DTSTART:20271031T010000
END:STANDARD
END:VTIMEZONE
BEGIN:VEVENT
DTSTART;TZID=Europe/Vienna:20260612T093000
DTEND;TZID=Europe/Vienna:20260612T130000
DTSTAMP:20260424T214147
CREATED:20260407T175221Z
LAST-MODIFIED:20260407T175221Z
UID:10000642-1781256600-1781269200@avoe.at
SUMMARY:EAA Web Session 'DORA – The New EU Regulation on Digital Operational Resilience'
DESCRIPTION:The two-hour web session provides participants with a structured overview of the key elements of the DORA Regulation. It explains the regulatory objectives pursued by the European Union\, systematically presents the core regulatory requirements\, and discusses typical implementation challenges faced by insurance undertakings in practice. The session will also provide insights into initial experiences in Germany with DORA-related audits conducted by BaFin and external auditors.\nAnmeldeschluss: 2026-06-10\nLink: https://actuarial-academy.com/en/continuing-education/upcoming-trainings/detail/dora-the-new-eu-regulation-on-digital-operational-resilience-e0577/#c4838
URL:https://avoe.at/event/eaa-web-session-dora-the-new-eu-regulation-on-digital-operational-resilience/
LOCATION:Online/Streaming
CATEGORIES:European Actuarial Academy (EAA)
END:VEVENT
END:VCALENDAR