BEGIN:VCALENDAR
VERSION:2.0
PRODID:-//AKTUARVEREINIGUNG ÖSTERREICHS (AVÖ) - ECPv6.15.20//NONSGML v1.0//EN
CALSCALE:GREGORIAN
METHOD:PUBLISH
X-WR-CALNAME:AKTUARVEREINIGUNG ÖSTERREICHS (AVÖ)
X-ORIGINAL-URL:https://avoe.at
X-WR-CALDESC:Veranstaltungen für AKTUARVEREINIGUNG ÖSTERREICHS (AVÖ)
REFRESH-INTERVAL;VALUE=DURATION:PT1H
X-Robots-Tag:noindex
X-PUBLISHED-TTL:PT1H
BEGIN:VTIMEZONE
TZID:Europe/Vienna
BEGIN:DAYLIGHT
TZOFFSETFROM:+0100
TZOFFSETTO:+0200
TZNAME:CEST
DTSTART:20250330T010000
END:DAYLIGHT
BEGIN:STANDARD
TZOFFSETFROM:+0200
TZOFFSETTO:+0100
TZNAME:CET
DTSTART:20251026T010000
END:STANDARD
BEGIN:DAYLIGHT
TZOFFSETFROM:+0100
TZOFFSETTO:+0200
TZNAME:CEST
DTSTART:20260329T010000
END:DAYLIGHT
BEGIN:STANDARD
TZOFFSETFROM:+0200
TZOFFSETTO:+0100
TZNAME:CET
DTSTART:20261025T010000
END:STANDARD
BEGIN:DAYLIGHT
TZOFFSETFROM:+0100
TZOFFSETTO:+0200
TZNAME:CEST
DTSTART:20270328T010000
END:DAYLIGHT
BEGIN:STANDARD
TZOFFSETFROM:+0200
TZOFFSETTO:+0100
TZNAME:CET
DTSTART:20271031T010000
END:STANDARD
END:VTIMEZONE
BEGIN:VEVENT
DTSTART;TZID=Europe/Vienna:20260615T100000
DTEND;TZID=Europe/Vienna:20260615T120000
DTSTAMP:20260424T165204
CREATED:20260210T190923Z
LAST-MODIFIED:20260210T190923Z
UID:10000622-1781517600-1781524800@avoe.at
SUMMARY:EAA Web Session 'Power Query\, Power Pivot & Power BI for Actuaries'
DESCRIPTION:Starting from Microsoft Excel\, this web session will demonstrate how Power Query\, Power Pivot\, and Power BI can be integrated to create a seamless and efficient actuarial data workflow. Power Query\, via the M language\, enables automated data extraction and transformation. Power Pivot allows for the construction of robust Data Models and the use of the DAX language for advanced calculations. \nThese Data Models can be copied directly from Power Query into Power BI\, where interactive visualisations and reporting further enhance actuarial analysis. The session focuses on practical actuarial examples\, illustrating how the combined use of M\, DAX\, and the Data Model across all three tools enables actuaries to manage complex data tasks more efficiently and deliver clearer\, more impactful results.\nAnmeldeschluss: 2026-06-11\nLink: https://actuarial-academy.com/en/continuing-education/upcoming-trainings/detail/eaa-web-session-power-query-power-pivot-power-bi-for-actuaries-e0560/
URL:https://avoe.at/event/eaa-web-session-power-query-power-pivot-power-bi-for-actuaries/
LOCATION:Online/Streaming
CATEGORIES:European Actuarial Academy (EAA)
END:VEVENT
END:VCALENDAR