BEGIN:VCALENDAR
VERSION:2.0
PRODID:-//AKTUARVEREINIGUNG ÖSTERREICHS (AVÖ) - ECPv6.15.20//NONSGML v1.0//EN
CALSCALE:GREGORIAN
METHOD:PUBLISH
X-ORIGINAL-URL:https://avoe.at
X-WR-CALDESC:Veranstaltungen für AKTUARVEREINIGUNG ÖSTERREICHS (AVÖ)
REFRESH-INTERVAL;VALUE=DURATION:PT1H
X-Robots-Tag:noindex
X-PUBLISHED-TTL:PT1H
BEGIN:VTIMEZONE
TZID:Europe/Vienna
BEGIN:DAYLIGHT
TZOFFSETFROM:+0100
TZOFFSETTO:+0200
TZNAME:CEST
DTSTART:20250330T010000
END:DAYLIGHT
BEGIN:STANDARD
TZOFFSETFROM:+0200
TZOFFSETTO:+0100
TZNAME:CET
DTSTART:20251026T010000
END:STANDARD
BEGIN:DAYLIGHT
TZOFFSETFROM:+0100
TZOFFSETTO:+0200
TZNAME:CEST
DTSTART:20260329T010000
END:DAYLIGHT
BEGIN:STANDARD
TZOFFSETFROM:+0200
TZOFFSETTO:+0100
TZNAME:CET
DTSTART:20261025T010000
END:STANDARD
BEGIN:DAYLIGHT
TZOFFSETFROM:+0100
TZOFFSETTO:+0200
TZNAME:CEST
DTSTART:20270328T010000
END:DAYLIGHT
BEGIN:STANDARD
TZOFFSETFROM:+0200
TZOFFSETTO:+0100
TZNAME:CET
DTSTART:20271031T010000
END:STANDARD
END:VTIMEZONE
BEGIN:VEVENT
DTSTART;TZID=Europe/Vienna:20260929T090000
DTEND;TZID=Europe/Vienna:20260929T170000
DTSTAMP:20260424T203637
CREATED:20260424T100202Z
LAST-MODIFIED:20260424T100202Z
UID:10000649-1790672400-1790701200@avoe.at
SUMMARY:Einführung in die Rechnungslegung von Versicherungsunternehmen - Aufbauseminar
DESCRIPTION:Das Aufbauseminar knüpft direkt an das Grundlagenseminar an und vertieft zentrale Spezialfragen zur Bewertung von Kapitalanlagen sowie zu den versicherungstechnischen Rückstellungen (Non-Life) im Jahresabschluss nach VAG/UGB. Zusätzlich werden die Unterschiede und Schnittstellen zur Solvenzbilanz und zur IFRS Bilanzierung herausgearbeitet. Inklusive Ergebnisse aus Vor-Ort-Prüfungen!\nAnmeldeschluss: 2026-09-08\nLink: https://www.gvfw.at/gvfw/gvfw.nsf/sysPages/9537DD678B63A1FDC1258DB5003841F9
URL:https://avoe.at/event/einfuehrung-in-die-rechnungslegung-von-versicherungsunternehmen-aufbauseminar/
CATEGORIES:Österreichische Gesellschaft für Versicherungsfachwissen (GVfW)
END:VEVENT
END:VCALENDAR