BEGIN:VCALENDAR
VERSION:2.0
PRODID:-//AKTUARVEREINIGUNG ÖSTERREICHS (AVÖ) - ECPv6.15.20//NONSGML v1.0//EN
CALSCALE:GREGORIAN
METHOD:PUBLISH
X-WR-CALNAME:AKTUARVEREINIGUNG ÖSTERREICHS (AVÖ)
X-ORIGINAL-URL:https://avoe.at
X-WR-CALDESC:Veranstaltungen für AKTUARVEREINIGUNG ÖSTERREICHS (AVÖ)
REFRESH-INTERVAL;VALUE=DURATION:PT1H
X-Robots-Tag:noindex
X-PUBLISHED-TTL:PT1H
BEGIN:VTIMEZONE
TZID:Europe/Vienna
BEGIN:DAYLIGHT
TZOFFSETFROM:+0100
TZOFFSETTO:+0200
TZNAME:CEST
DTSTART:20190331T010000
END:DAYLIGHT
BEGIN:STANDARD
TZOFFSETFROM:+0200
TZOFFSETTO:+0100
TZNAME:CET
DTSTART:20191027T010000
END:STANDARD
BEGIN:DAYLIGHT
TZOFFSETFROM:+0100
TZOFFSETTO:+0200
TZNAME:CEST
DTSTART:20200329T010000
END:DAYLIGHT
BEGIN:STANDARD
TZOFFSETFROM:+0200
TZOFFSETTO:+0100
TZNAME:CET
DTSTART:20201025T010000
END:STANDARD
BEGIN:DAYLIGHT
TZOFFSETFROM:+0100
TZOFFSETTO:+0200
TZNAME:CEST
DTSTART:20210328T010000
END:DAYLIGHT
BEGIN:STANDARD
TZOFFSETFROM:+0200
TZOFFSETTO:+0100
TZNAME:CET
DTSTART:20211031T010000
END:STANDARD
END:VTIMEZONE
BEGIN:VEVENT
DTSTART;TZID=Europe/Vienna:20201103T163000
DTEND;TZID=Europe/Vienna:20201103T180000
DTSTAMP:20260420T140030
CREATED:20201217T101753Z
LAST-MODIFIED:20201217T104051Z
UID:10000163-1604421000-1604426400@avoe.at
SUMMARY:ÖFdV-Seminarreihe "Data Science im Live-Betrieb"
DESCRIPTION:Die ÖFdV GmbH veranstaltet eine fünfteilige Online-Seminarreihe mit Informationen von Praktikern für Praktiker. Die Vortragenden Fabian Pribahsnik und Dietmar Hareter zeigen\, wie Data-Science-Methoden im Arbeitsalltag angewendet werden können. Dabei beleuchten sie anhand von Use Cases die verschiedenen Aspekte eines Data-Science-Projekts. Für die erfolgreiche Teilnahme vergibt die ÖFdV GmbH acht CPD-Punkte zur beruflichen Weiterbildung. Weitere Details \nKosten: 390 Euro (inkl. Ust.) \nAnmeldung per Anmeldeformular \n  \n 
URL:https://avoe.at/event/oefdv-seminarreihe-data-science-im-live-betrieb/2020-11-03/
LOCATION:Wien
END:VEVENT
BEGIN:VEVENT
DTSTART;TZID=Europe/Vienna:20201117T163000
DTEND;TZID=Europe/Vienna:20201117T180000
DTSTAMP:20260420T140030
CREATED:20201217T101753Z
LAST-MODIFIED:20201217T104051Z
UID:10000164-1605630600-1605636000@avoe.at
SUMMARY:ÖFdV-Seminarreihe "Data Science im Live-Betrieb"
DESCRIPTION:Die ÖFdV GmbH veranstaltet eine fünfteilige Online-Seminarreihe mit Informationen von Praktikern für Praktiker. Die Vortragenden Fabian Pribahsnik und Dietmar Hareter zeigen\, wie Data-Science-Methoden im Arbeitsalltag angewendet werden können. Dabei beleuchten sie anhand von Use Cases die verschiedenen Aspekte eines Data-Science-Projekts. Für die erfolgreiche Teilnahme vergibt die ÖFdV GmbH acht CPD-Punkte zur beruflichen Weiterbildung. Weitere Details \nKosten: 390 Euro (inkl. Ust.) \nAnmeldung per Anmeldeformular \n  \n 
URL:https://avoe.at/event/oefdv-seminarreihe-data-science-im-live-betrieb/2020-11-17/
LOCATION:Wien
END:VEVENT
BEGIN:VEVENT
DTSTART;TZID=Europe/Vienna:20201130T100000
DTEND;TZID=Europe/Vienna:20201130T120000
DTSTAMP:20260420T140030
CREATED:20201125T130136Z
LAST-MODIFIED:20201125T130425Z
UID:10000127-1606730400-1606737600@avoe.at
SUMMARY:EAA Web Session: "The Retirement Phase: Product Development & Act. Modelling of Longevity Risk"
DESCRIPTION:The aim of the web sessions is to provide an overview over products for the retirement phase as well as a few thoughts on particular risks and the actuarial modelling behind them. Furthermore\, special attention will be given to the actuarial modelling of longevity risk by an introduction of stochastic mortality models and its applications within product development. \nIn the first part of the web session series\, we will introduce traditional and modern life insurance products for the retirement phase. This part will mainly contain a product overview where we illustrate the motivation\, concepts\, ideas and examples for different retirement products\, also taking product designs with capital market participation and longevity indexed products into account. \nThe second part of the web session series will mainly deal with actuarial modelling of longevity risk. In particular\, we will show why stochastic mortality modelling can be necessary and helpful within the product development of retirement phase products. For doing so\, we will introduce two popular approaches (Lee-Carter and Cairns-Blake-Dowd) for the modelling of longevity risk and show an application within a case study. \nRegistration deadline: 19 Nov 2020
URL:https://avoe.at/event/eaa-web-session-the-retirement-phase-product-development-act-modelling-of-longevity-risk/
LOCATION:Wien
END:VEVENT
END:VCALENDAR