BEGIN:VCALENDAR
VERSION:2.0
PRODID:-//AKTUARVEREINIGUNG ÖSTERREICHS (AVÖ) - ECPv6.15.20//NONSGML v1.0//EN
CALSCALE:GREGORIAN
METHOD:PUBLISH
X-WR-CALNAME:AKTUARVEREINIGUNG ÖSTERREICHS (AVÖ)
X-ORIGINAL-URL:https://avoe.at
X-WR-CALDESC:Veranstaltungen für AKTUARVEREINIGUNG ÖSTERREICHS (AVÖ)
REFRESH-INTERVAL;VALUE=DURATION:PT1H
X-Robots-Tag:noindex
X-PUBLISHED-TTL:PT1H
BEGIN:VTIMEZONE
TZID:Europe/Vienna
BEGIN:DAYLIGHT
TZOFFSETFROM:+0100
TZOFFSETTO:+0200
TZNAME:CEST
DTSTART:20250330T010000
END:DAYLIGHT
BEGIN:STANDARD
TZOFFSETFROM:+0200
TZOFFSETTO:+0100
TZNAME:CET
DTSTART:20251026T010000
END:STANDARD
BEGIN:DAYLIGHT
TZOFFSETFROM:+0100
TZOFFSETTO:+0200
TZNAME:CEST
DTSTART:20260329T010000
END:DAYLIGHT
BEGIN:STANDARD
TZOFFSETFROM:+0200
TZOFFSETTO:+0100
TZNAME:CET
DTSTART:20261025T010000
END:STANDARD
BEGIN:DAYLIGHT
TZOFFSETFROM:+0100
TZOFFSETTO:+0200
TZNAME:CEST
DTSTART:20270328T010000
END:DAYLIGHT
BEGIN:STANDARD
TZOFFSETFROM:+0200
TZOFFSETTO:+0100
TZNAME:CET
DTSTART:20271031T010000
END:STANDARD
END:VTIMEZONE
BEGIN:VEVENT
DTSTART;TZID=Europe/Vienna:20260505T090000
DTEND;TZID=Europe/Vienna:20260505T123000
DTSTAMP:20260424T125952
CREATED:20260304T114647Z
LAST-MODIFIED:20260304T114647Z
UID:10000632-1777971600-1777984200@avoe.at
SUMMARY:VersVG aktuell – Update und Refresher I: Antrag\, Storno\, Konvertierung - Teil 1
DESCRIPTION:Von der „Wiege“ bis zur „Bahre“ des Vertrags: Rechtsfragen\, die in der alltäglichen Arbeitspraxis zu Abschluss\, Konvertierung und Auflösung des Versicherungsvertrags zu lösen sind. Systematisch\, praxisgerecht und auch für Nichtjurist:innen verständlich dargestellt auf Basis der OGH-Judikatur. Das Hauptaugenmerk liegt auf dem Vertragsstorno\, das in der Praxis besonders zahlreiche und vielfältige Probleme aufwirft.\nAnmeldeschluss: 2026-04-28
URL:https://avoe.at/event/versvg-aktuell-update-und-refresher-i-antrag-storno-konvertierung-teil-1/
CATEGORIES:Österreichische Gesellschaft für Versicherungsfachwissen (GVfW)
END:VEVENT
BEGIN:VEVENT
DTSTART;TZID=Europe/Vienna:20260505T091500
DTEND;TZID=Europe/Vienna:20260505T123000
DTSTAMP:20260424T125952
CREATED:20260113T144851Z
LAST-MODIFIED:20260113T144851Z
UID:10000616-1777972500-1777984200@avoe.at
SUMMARY:EAA Web Session 'Designing the Next Generation of Life Products'
DESCRIPTION:Customers’ lives have changed – and life insurance must evolve with them. Innovation is no longer a choice but a necessity. Regulatory shifts\, digitalisation\, changing capital markets\, rising customer expectations\, and new competitors are reshaping the playing field. How can life insurers respond – developing products that are simpler and more relevant\, while making product development itself faster\, more flexible\, and more impactful? This session explores how to build the next generation of life insurance products: innovative\, agile\, and impactful.
URL:https://avoe.at/event/eaa-web-session-designing-the-next-generation-of-life-products/
LOCATION:Online/Streaming
CATEGORIES:European Actuarial Academy (EAA)
END:VEVENT
BEGIN:VEVENT
DTSTART;TZID=Europe/Vienna:20260507T090000
DTEND;TZID=Europe/Vienna:20260507T123000
DTSTAMP:20260424T125952
CREATED:20260304T105213Z
LAST-MODIFIED:20260304T105213Z
UID:10000626-1778144400-1778157000@avoe.at
SUMMARY:VersVG aktuell – Update und Refresher I: Antrag\, Storno\, Konvertierung - Teil 2
DESCRIPTION:Von der „Wiege“ bis zur „Bahre“ des Vertrags: Rechtsfragen\, die in der alltäglichen Arbeitspraxis zu Abschluss\, Konvertierung und Auflösung des Versicherungsvertrags zu lösen sind. Systematisch\, praxisgerecht und auch für Nichtjurist:innen verständlich dargestellt auf Basis der OGH-Judikatur. Das Hauptaugenmerk liegt auf dem Vertragsstorno\, das in der Praxis besonders zahlreiche und vielfältige Probleme aufwirft.\nAnmeldeschluss: 2026-04-28
URL:https://avoe.at/event/versvg-aktuell-update-und-refresher-i-antrag-storno-konvertierung-teil-2/
CATEGORIES:Österreichische Gesellschaft für Versicherungsfachwissen (GVfW)
END:VEVENT
BEGIN:VEVENT
DTSTART;TZID=Europe/Vienna:20260511T090000
DTEND;TZID=Europe/Vienna:20260512T150000
DTSTAMP:20260424T125952
CREATED:20251216T174738Z
LAST-MODIFIED:20251216T174738Z
UID:10000608-1778490000-1778598000@avoe.at
SUMMARY:EAA Web Session 'Understanding IFRS 17'
DESCRIPTION:The goal of the two-day web session is to provide participants with a comprehensive\nintroduction to the new measurement\, presentation and disclosure guidance for insurance contracts. It will cover life\, health and non-life business\, including the special guidance on direct participating contracts and shorter term non-life contracts and give useful examples. In the web session\, we will first shed light on the context of accounting for insurance contracts within the IFRS 17 framework. We will present and discuss the general concepts behind the new model and refer to the application of valuation models like the Variable Fee Approach (VFA) and\nthe Premium Allocation Approach (PAA). The web session will proceed with a discussion of\ntopics specific to individual lines of business. We will close with an overview of the most\nmethodological relevant topics seen in various European markets\, share emerging market experience and discuss these with the participants. Overall\, the goal is to enable participants to understand the standard and help transfer the requirements into your specific situation. It is thus intended to prepare participants for model development\, implementation\, testing\, reviewing and consulting with management\, accounting\nand auditors.\nAnmeldeschluss: 2026-05-07\nLink: https://actuarial-academy.com/seminars/seminar?No=E0550
URL:https://avoe.at/event/eaa-web-session-understanding-ifrs-17-5/
LOCATION:Online/Streaming
CATEGORIES:European Actuarial Academy (EAA)
END:VEVENT
BEGIN:VEVENT
DTSTART;TZID=Europe/Vienna:20260518T100000
DTEND;TZID=Europe/Vienna:20260518T120000
DTSTAMP:20260424T125952
CREATED:20260130T110155Z
LAST-MODIFIED:20260130T110155Z
UID:10000618-1779098400-1779105600@avoe.at
SUMMARY:EAA Web Session 'FIDA for Actuaries: Challenge or Opportunity?
DESCRIPTION:Open insurance is once again the talk of the town: Despite a lot of resistance from the industry\, its relevance will certainly increase over time. Driven by the market – but also driven by regulation. This web session will provide insights into the new Financial Data Access regulation (FIDA) that is currently one of the hot topics discussed between the political trilogue parties at EU level. \nDuring this web session we will discuss\, based on the current status of the regulatory developments: \n– What is FIDA? How does it fit into the overall European economic strategy?\n– What is the timeline for introduction of FIDA?\n– Which types of insurance\, products and data are affected by FIDA?\n– How does the data exchange process work in practice?\n– What are technical and data requirements to be implemented when preparing for FIDA implementation?\n– Explore session: Focus on product development\, pricing\, underwriting and other areas of potential FIDA use cases. How can insurers – and in particular\, actuaries – make use of new data availabilities made possible by FIDA? \nAnmeldeschluss: 2026-05-14\nLink: https://actuarial-academy.com/en/continuing-education/upcoming-trainings/detail/eaa-web-session-fida-for-actuaries-challenge-or-opportunity-e0561/
URL:https://avoe.at/event/eaa-web-session-fida-for-actuaries-challenge-or-opportunity/
LOCATION:Online/Streaming
CATEGORIES:European Actuarial Academy (EAA)
END:VEVENT
BEGIN:VEVENT
DTSTART;TZID=Europe/Vienna:20260520T093000
DTEND;TZID=Europe/Vienna:20260520T170000
DTSTAMP:20260424T125952
CREATED:20251023T102248Z
LAST-MODIFIED:20251023T102248Z
UID:10000564-1779269400-1779296400@avoe.at
SUMMARY:EAA e-Conference on Data Science & Data Ethics
DESCRIPTION:In an era marked by unprecedented technological advancements\, the actuarial landscape has experienced profound transformations. The exponential growth of computational power and the abundance of data have converged and provide an exciting opportunity for the actuarial profession\nto redefine its boundaries and explore the ethical implications of this new field.\nThe role of actuaries is evolving at an incredible pace but remains incompletely defined. We are at a crucial point where a new understanding of the possibilities of actuarial science and its ethical obligations needs to be created.
URL:https://avoe.at/event/eaa-e-conference-on-data-science-data-ethics-6/
LOCATION:Online/Streaming
CATEGORIES:European Actuarial Academy (EAA)
END:VEVENT
BEGIN:VEVENT
DTSTART;TZID=Europe/Vienna:20260526T090000
DTEND;TZID=Europe/Vienna:20260526T123000
DTSTAMP:20260424T125952
CREATED:20260130T110351Z
LAST-MODIFIED:20260130T110351Z
UID:10000619-1779786000-1779798600@avoe.at
SUMMARY:EAA Web Session 'Non-Life Pricing Using Statistical Techniques with R Applications'
DESCRIPTION:Non-Life insurance is facing many challenges ranging from fierce competition on the market or evolution in the distribution channel used by the consumers to evolution of the regulatory environment. Pricing is the central link between solvency\, profitability and market shares (volume). Improving pricing practice encompasses several dimensions: \n– Technical: Is our pricing adequate to cover the underlying cost of risk of my policyholders and the other costs we are facing? Which are the key variables driving the risk? Are they adequately taken into account in our pricing? What’s the impact of the claims history of my policyholder on its expected risk? In which segment are we profitable and in which are we not profitable?\n– Competition: At what price will we attract the segments that we target and price out those that we do not want? Is the positioning of our competitors influencing our pricing practice and our profitability? What’s my position with respect to my competitors in term of pricing? What are the segments in which I am well positioned and the segments where I am not well positioned?\n– Elasticity: What price (evolution) are our existing customers prepared to accept? Does the sensitivity to price evolution depend on the profile of my customer?\n– Segmentation: Is our segmentation granular enough for our purposes? \nThe aim of this web session is to present some advanced actuarial/statistical techniques used in non-life pricing or underwriting. The web session focuses on selected practical problems faced by pricing actuaries and product managers. \nLink: https://actuarial-academy.com/en/continuing-education/upcoming-trainings/detail/eaa-web-session-non-life-pricing-using-statistical-techniques-with-r-applications-e0549/
URL:https://avoe.at/event/eaa-web-session-non-life-pricing-using-statistical-techniques-with-r-applications-3/
LOCATION:Online/Streaming
CATEGORIES:European Actuarial Academy (EAA)
END:VEVENT
END:VCALENDAR