BEGIN:VCALENDAR
VERSION:2.0
PRODID:-//AKTUARVEREINIGUNG ÖSTERREICHS (AVÖ) - ECPv6.15.20//NONSGML v1.0//EN
CALSCALE:GREGORIAN
METHOD:PUBLISH
X-ORIGINAL-URL:https://avoe.at
X-WR-CALDESC:Veranstaltungen für AKTUARVEREINIGUNG ÖSTERREICHS (AVÖ)
REFRESH-INTERVAL;VALUE=DURATION:PT1H
X-Robots-Tag:noindex
X-PUBLISHED-TTL:PT1H
BEGIN:VTIMEZONE
TZID:Europe/Vienna
BEGIN:DAYLIGHT
TZOFFSETFROM:+0100
TZOFFSETTO:+0200
TZNAME:CEST
DTSTART:20230326T010000
END:DAYLIGHT
BEGIN:STANDARD
TZOFFSETFROM:+0200
TZOFFSETTO:+0100
TZNAME:CET
DTSTART:20231029T010000
END:STANDARD
BEGIN:DAYLIGHT
TZOFFSETFROM:+0100
TZOFFSETTO:+0200
TZNAME:CEST
DTSTART:20240331T010000
END:DAYLIGHT
BEGIN:STANDARD
TZOFFSETFROM:+0200
TZOFFSETTO:+0100
TZNAME:CET
DTSTART:20241027T010000
END:STANDARD
BEGIN:DAYLIGHT
TZOFFSETFROM:+0100
TZOFFSETTO:+0200
TZNAME:CEST
DTSTART:20250330T010000
END:DAYLIGHT
BEGIN:STANDARD
TZOFFSETFROM:+0200
TZOFFSETTO:+0100
TZNAME:CET
DTSTART:20251026T010000
END:STANDARD
BEGIN:DAYLIGHT
TZOFFSETFROM:+0100
TZOFFSETTO:+0200
TZNAME:CEST
DTSTART:20260329T010000
END:DAYLIGHT
BEGIN:STANDARD
TZOFFSETFROM:+0200
TZOFFSETTO:+0100
TZNAME:CET
DTSTART:20261025T010000
END:STANDARD
END:VTIMEZONE
BEGIN:VTIMEZONE
TZID:Europe/Paris
BEGIN:DAYLIGHT
TZOFFSETFROM:+0100
TZOFFSETTO:+0200
TZNAME:CEST
DTSTART:20220327T010000
END:DAYLIGHT
BEGIN:STANDARD
TZOFFSETFROM:+0200
TZOFFSETTO:+0100
TZNAME:CET
DTSTART:20221030T010000
END:STANDARD
BEGIN:DAYLIGHT
TZOFFSETFROM:+0100
TZOFFSETTO:+0200
TZNAME:CEST
DTSTART:20230326T010000
END:DAYLIGHT
BEGIN:STANDARD
TZOFFSETFROM:+0200
TZOFFSETTO:+0100
TZNAME:CET
DTSTART:20231029T010000
END:STANDARD
BEGIN:DAYLIGHT
TZOFFSETFROM:+0100
TZOFFSETTO:+0200
TZNAME:CEST
DTSTART:20240331T010000
END:DAYLIGHT
BEGIN:STANDARD
TZOFFSETFROM:+0200
TZOFFSETTO:+0100
TZNAME:CET
DTSTART:20241027T010000
END:STANDARD
END:VTIMEZONE
BEGIN:VEVENT
DTSTART;TZID=Europe/Vienna:20251111T090000
DTEND;TZID=Europe/Vienna:20251111T170000
DTSTAMP:20260420T220205
CREATED:20251024T222505Z
LAST-MODIFIED:20251025T121256Z
UID:10000596-1762851600-1762880400@avoe.at
SUMMARY:ÖFdV: (Einführung)IFRS 17 / 9 \, UGB
DESCRIPTION:
URL:https://avoe.at/event/oefdv-einfuehrungifrs-17-9-ugb/
LOCATION:Hotel Regina\, Rooseveltplatz 15\, Wien\, 1090\, Österreich
CATEGORIES:Österreichische Förderungsgesellschaft der Versicherungsmathematik (ÖFdV)
ORGANIZER;CN="%C3%96FdV GmbH":MAILTO:sekretariat@oefdv-gmbh.at
END:VEVENT
BEGIN:VEVENT
DTSTART;TZID=Europe/Vienna:20251105T090000
DTEND;TZID=Europe/Vienna:20251105T170000
DTSTAMP:20260420T220205
CREATED:20251024T222505Z
LAST-MODIFIED:20251025T121256Z
UID:10000595-1762333200-1762362000@avoe.at
SUMMARY:ÖFdV: (Nonlife)Pricing und Rückversicherung
DESCRIPTION:
URL:https://avoe.at/event/oefdv-nonlifepricing-und-rueckversicherung/
LOCATION:Hotel Regina\, Rooseveltplatz 15\, Wien\, 1090\, Österreich
CATEGORIES:Österreichische Förderungsgesellschaft der Versicherungsmathematik (ÖFdV)
ORGANIZER;CN="%C3%96FdV GmbH":MAILTO:sekretariat@oefdv-gmbh.at
END:VEVENT
BEGIN:VEVENT
DTSTART;TZID=Europe/Vienna:20250912T090000
DTEND;TZID=Europe/Vienna:20250912T170000
DTSTAMP:20260420T220205
CREATED:20250820T193549Z
LAST-MODIFIED:20251024T223509Z
UID:10000559-1757667600-1757696400@avoe.at
SUMMARY:Makroökonomische Modelle und Veranlagungspraxis in Versicherungen – Kapitalmarkt\, Immobilienmarkt\, Arbeitsmarkt
DESCRIPTION:Vortragende: Dr. Christine Dornaus\, Mag. Reza Kazemi Tabrizi\, Fabian Siuda PhD \nOrt: Hotel Regina \nArt der Veranstaltung: Präsenzseminar \nPreis: 510 Euro (inkl. Ust.)\, AVÖ-Mitglieder 460 Euro (inkl. Ust.) \nCDP-Punkte: 6 \nIDD-Einheiten: 2 \nInhalte: \nMakroökonomische Modelle \n\nArbeitsmarkt\n\nStylized Facts: Was wollen wir erklären?\nModelle des Arbeitsmarkts\nEmpirische Evidenz\n\n\nImmobilienmarkt\n\nÜberblick über aktuelle Lage\nModelle für den Immobilienmarkt\nAnalyse von Markteingriffen\n\n\nKapitalmarkt\n\nModelle des Kapitalmarkts\nAnalyse von Marktversagen\n\n\n\nPraxisberichte Kapitalmarkt und Immobilienmarkt \n\nGlobale makroökonomische Trends\n\nInflation: Ursachen\, Dynamiken und Auswirkungen auf Finanzmärkte\nStaatsverschuldung im historischen und aktuellen Kontext\nBruttoinlandsprodukt (BIP): Wachstumstreiber und regionale Unterschiede\n\n\nLangfristige Entwicklung der Aktienmärkte\n\nHistorische Performance globaler Aktienmärkte\n„Time in the Market“ vs. „Timing the Market“ – Warum Geduld sich auszahlt\n\n\nFokus: Anleihen als Anlageinstrument\n\nPreisbildung und Einflussfaktoren\nÜberblick über Anleihearten: Staatsanleihen\, Unternehmensanleihen\, High Yield etc.\nRisiken: Zinsänderungen\, Bonität\, Liquidität\, etc.\n\n\nInvestmentprinzipien und langfristige Erträge der Assetklassen\n\n  \n\nVorstellung der Bundesimmobiliengesellschaft und ihres europaweit einzigartigen Geschäftsmodells\nAusblick auf den Immobilienmarkt und aktuelle makroökonomische Entwicklungen\nEinblick in den Bewertungsansatz von BIG und ARE\n\n  \nÜber die Vortragenden: \nReza Kazemi Tabrizi ist seit 2010 Leiter der Wertpapierveranlagung der Wiener Städtischen und Donau Versicherung. Zuvor bekleidete er von 2007 bis 2018 dieselbe Position bei der Sparkassenversicherung in Wien. Zwischen 2005 und 2007 war er als Direktor für Structured Solutions bei der WestLB in Düsseldorf tätig. Von 2000 bis 2005 verantwortete er den Aufbau und die Leitung des Bereichs Financial Engineering bei der HASPA in Hamburg. Weitere Stationen seiner Laufbahn waren die BAWAG in Wien (1998–1999) im Bereich Treasury und Structured Finance sowie CA Global Futures (1996–1997)\, wo er als Derivate-Broker tätig war. Er studierte Betriebswirtschaftlehre an der Wirtschaftsuniversität Wien. \nChristine Dornaus ist seit Oktober 2024 in der Geschäftsführung der Bundesimmobiliengesellschaft. Zuvor war die promovierte Handelswissenschaftlerin mehr als zwanzig Jahre in führenden Positionen in der Wiener Städtischen Versicherung AG tätig\, seit 2009 als Mitglied des Vorstands. Zu Beginn ihrer beruflichen Laufbahn führte sie ihre zehnjährige Bankenkarriere zur Chase Manhattan Bank in São Paulo\, Brasilien. Dornaus hatte im Laufe ihrer Karriere verschiedene Aufsichtsratsfunktionen innen\, zum Beispiel bei der PORR\, der VBV\, dem Österreichischen Verkehrsbüro oder der Wiener Konzerthausgesellschaft. Zudem ist sie im Universitätsrat der Wirtschaftsuniversität Wien und im Vorstand der IV Wien vertreten. \nFabian Siuda ist Assistant Professor am Department für Volkswirtschaftslehre der Wirtschaftsuniversität Wien. Er promovierte 2020 an der Ludwig-Maximilians-Universität München. Seine Forschungsschwerpunkte liegen in der Arbeits- und Bevölkerungsökonomik sowie im Bereich des langfristigen Wirtschaftswachstums. In der Lehre befasst er sich mit kurz- und langfristigen makroökonomischen Zusammenhängen sowie der ökonomischen Modellierung.
URL:https://avoe.at/event/makrooekonomische-modelle-und-veranlagungspraxis-in-versicherungen-kapitalmarkt-immobilienmarkt-arbeitsmarkt-2/
LOCATION:Hotel Regina\, Rooseveltplatz 15\, Wien\, 1090\, Österreich
CATEGORIES:Österreichische Förderungsgesellschaft der Versicherungsmathematik (ÖFdV)
ORGANIZER;CN="%C3%96FdV GmbH":MAILTO:sekretariat@oefdv-gmbh.at
END:VEVENT
BEGIN:VEVENT
DTSTART;TZID=Europe/Vienna:20240620T090000
DTEND;TZID=Europe/Vienna:20240620T170000
DTSTAMP:20260420T220205
CREATED:20240301T075232Z
LAST-MODIFIED:20240301T075232Z
UID:10000419-1718874000-1718902800@avoe.at
SUMMARY:Makroökonomie für Aktuare
DESCRIPTION:Vortragende: Univ.-Prof. Dipl.-Ing. Dr. techn. Gerhard Sorger \nOrt der Veranstaltung: Hotel Regina \nArt der Veranstaltung: Präsenzseminar \nZielgruppe: Aktuar:innen\, Risikomanager:innen\, Investmentmanager:innen\, Controller:innen\, Rechnungswesen \nPreis: 510 Euro (inkl. Ust.)\, AVÖ-Mitglieder 460 Euro (inkl. Ust.) \nCDP-Punkte: 6
URL:https://avoe.at/event/makrooekonomie-fuer-aktuare/
LOCATION:Hotel Regina\, Rooseveltplatz 15\, Wien\, 1090\, Österreich
CATEGORIES:Österreichische Gesellschaft für Versicherungsfachwissen (GVfW)
ORGANIZER;CN="%C3%96FdV GmbH":MAILTO:sekretariat@oefdv-gmbh.at
END:VEVENT
BEGIN:VEVENT
DTSTART;TZID=Europe/Vienna:20240513T090000
DTEND;TZID=Europe/Vienna:20240513T170000
DTSTAMP:20260420T220205
CREATED:20240301T075049Z
LAST-MODIFIED:20240301T075049Z
UID:10000418-1715590800-1715619600@avoe.at
SUMMARY:Mikroökonomie für Aktuare
DESCRIPTION:Vortragende: Prof. Dr. Alfred Stiassny (WU Wien)\, Prof. Dr. Alexander Mürmann (WU Wien) \nNeben den reinen aktuariellen Fähigkeiten zur Bepreisung\, Reservierung und Modellierung von Einzelverträgen und Versicherungsportfolien ist für Aktuar:innen auch eine allgemeinere Sicht auf Versicherung und Versicherbarkeit im Allgemeinen von immer größerer Bedeutung. Dieses Seminar soll daher die zugrundeliegenden mikroökonomischen Konzepte  sowohl allgemein als auch versicherungsspezifisch behandeln. \nDieses Seminar ist ein eigenständiges Seminar\, jedoch in Verbindung mit dem für Herbst geplanten Seminar “Makroökonomie für Aktuare” konzipiert. Diese Seminare richtet sich sowohl an erfahrene Aktuar:innen\, als auch Jungaktuar:innen und können eine gegebenenfalls ausgesprochene CPD-Empfehlung zu Mikro- und Makroökonomie bei der Aufnahme in die Sektion anerkannter Aktuare erfüllen. \n  \nInhalt des Seminars: \nVormittag: Allgemeine\, mikroökonomische Konzepte (inkl. Entscheidungstheorie unter Unsicherheit\, Gleichgewichtstheorie\, Effizienz) \n\nGleichgewichtskonzepte in der ökonomischen Theorie (warum ist das sinnvoll?)\nMarktgleichgewicht bei vollkommener Konkurrenz\nRationalprinzip als grundlegende Annahme für Nachfrageentscheidungen\nGrundlegende Konzepte für die Analyse von Nachfrageentscheidungen (Präferenzen\, Indifferenzkurven\, Nutzenfunktion\, Budgetbeschränkung)\n Anwendung auf intertemporale Probleme\nEntscheidungen bei Unsicherheit (Risikoneutralität versus Risikoaversion\, Sicherheitsäquivalent\, Zustände der Welt)\nMarktmacht von Firmen (kurze Einführung in Marktformen)\nEffizienz von Marktgleichgewichten\, Gründe für Ineffizienzen (Marktmacht\, externe Effekte\, nicht definierte Eigentumsrechte\, Informationsasymmetrien) und Diskussion staatlicher Eingriffe\nGründe für Produktdifferenzierungen bei Preiswettbewerb\n\nNachmittag: Versicherungsspezifische\, mikroökonomische Konzepte (inkl. optimale Vertragsstruktur\, Informationsfriktionen (adverse Selektion\, Moral Hazard)\, Marktmechanismen\, Regulierung) \n\nRisikoteilung und Diversifikation\nVersicherungsnachfrage\, Produktgestaltung (optimale Verträge)\, verhaltenswissenschaftliche Faktoren\nVersicherbarkeit und deren Grenze (Katastrophen\, Terror\, Cyber\, Pandemie)\nInformationsasymmetrie (adverse Selektion): Ineffizienz\, empirische Evidenz\, Produktgestaltung\, Regulierung\nAnreizprobleme (moral hazard): Ineffizienz\, empirische Evidenz\, Produktgestaltung\, Regulierung\n\n  \nOrt der Veranstaltung: Hotel Regina \nArt der Veranstaltung: Präsenzseminar \nZielgruppe:  \nPreis: 510 Euro (inkl. Ust.)\, AVÖ-Mitglieder 460 Euro (inkl. Ust.)\nCPD-Punkte: 6
URL:https://avoe.at/event/mikrooekonomie-fuer-aktuare/
LOCATION:Hotel Regina\, Rooseveltplatz 15\, Wien\, 1090\, Österreich
CATEGORIES:Österreichische Gesellschaft für Versicherungsfachwissen (GVfW)
ORGANIZER;CN="%C3%96FdV GmbH":MAILTO:sekretariat@oefdv-gmbh.at
END:VEVENT
BEGIN:VEVENT
DTSTART;TZID=Europe/Paris:20231114T090000
DTEND;TZID=Europe/Paris:20231115T170000
DTSTAMP:20260420T220205
CREATED:20230922T095624Z
LAST-MODIFIED:20230922T095624Z
UID:10000371-1699952400-1700067600@avoe.at
SUMMARY:Aktuarielle Modellierung
DESCRIPTION:Vortragende: Markus Orasch\, Miona Graorac \nOrt: Hotel Regina\, Rooseveltplatz 15 Wien\, 1090 Österreich \nArt der Veranstaltung: Präsenzseminar \n  \nPreis: 790 Euro (inkl. Ust.)\, AVÖ-Mitglieder 710 Euro (inkl. Ust.) \nCDP-Punkte: 12 \n 
URL:https://avoe.at/event/aktuarielle-modellierung/
LOCATION:Hotel Regina\, Rooseveltplatz 15\, Wien\, 1090\, Österreich
ORGANIZER;CN="%C3%96FdV GmbH":MAILTO:sekretariat@oefdv-gmbh.at
END:VEVENT
BEGIN:VEVENT
DTSTART;TZID=Europe/Paris:20231109T090000
DTEND;TZID=Europe/Paris:20231109T170000
DTSTAMP:20260420T220205
CREATED:20230922T095623Z
LAST-MODIFIED:20230922T095623Z
UID:10000370-1699520400-1699549200@avoe.at
SUMMARY:Die Gesetzliche Pensionsversicherung – Mit dem Schwerpunkt auf der Pensionsberechnung nach Pensionskonto und Kontoerstgutschrift
DESCRIPTION:Inhalte: \nDie Funktionsweise des Pensionskontos  \n\nBerechnung von Pensionskonto und Kontoerstgutschrift\nTeilgutschrift und Gesamtgutschrift\n\nVersicherungszeiten\nTeilversicherungszeiten\nKindererziehungszeiten (als besondere TVZ)\nZeiten einer freiwilligen Weiter- bzw. Selbstversicherung\nSplitting\n\n\nAufwertung im Pensionskonto\nKontoprozentsatz\nVerhältnis Gesamtgutschrift zur Pension\nLeistungsveränderungen außerhalb des Kontos\n\nAbschläge\nInvaliditätspensionen – Hinzurechnung\niii. Freiwillige Höherversicherung\nAusgleichszulagen und Bonifikationen\nFrühstarterbonus\n\n\nSonderregelungen\n\nArbeit während bzw. nach Pension\nVorruhestandsregelungen (Rehabilitationsgeld\, Sonderruhegeld\, Altersteilzeit)\niii. Zwischenstaatliche Fälle\nLeistungsbezug im Ausland\n\n\nKontomitteilung\, Kontovorausberechnung\, Pensions-App\nPensionsanpassung\n\nÜber den Vortragenden: \nProf. Johann Stefanits \n\nGeboren – 24.01.1958\nSchulbildung – Gymnasium Eisenstadt\, Matura 1976\n1976 – 1980 Studium der Betriebs- und Wirtschaftsinformatik\, Uni Wien\n1980 – 1982 Post Graduate Ausbildung am IHS (Abteilung –\nMathematische Methoden und Computerverfahren)\n1982 Eintritt Sozialministerium – Sektion II  / Sozialversicherung\n1985 Referatsleiter\n1989 Abteilungsleiter\n2009 Gruppenleiter\, Finanzielle Angelegenheiten der Sozialversicherung\,\nGrundsatzfragen\n2010 Verleihung des Berufstitels „Professor“\nStellvertretender Sektionsleiter\nSeit 1.2.2023 im Ruhestand\nLektor an der TU Wien – Sozialversicherungsrecht\n\n 
URL:https://avoe.at/event/die-gesetzliche-pensionsversicherung-mit-dem-schwerpunkt-auf-der-pensionsberechnung-nach-pensionskonto-und-kontoerstgutschrift/
LOCATION:Hotel Regina\, Rooseveltplatz 15\, Wien\, 1090\, Österreich
ORGANIZER;CN="%C3%96FdV GmbH":MAILTO:sekretariat@oefdv-gmbh.at
END:VEVENT
BEGIN:VEVENT
DTSTART;TZID=Europe/Paris:20230928T090000
DTEND;TZID=Europe/Paris:20230928T170000
DTSTAMP:20260420T220205
CREATED:20230922T095153Z
LAST-MODIFIED:20230922T095153Z
UID:10000367-1695891600-1695920400@avoe.at
SUMMARY:ABGESAGT: Berufsständisches Seminar
DESCRIPTION:DIESES SEMINAR WIRD ABGESAGT! \nDas Seminar wird voraussichtlich kommendes Jahr wieder an der TU organisiert. \n  \nAktuar:innen sind versicherungs- und finanzmathematische Sachverständige\, die überwiegend im Versicherungs-\, Pensions- und Finanzwesen tätig sind. Sie sind Expertinnen und Experten in der Anwendung mathematisch-statistischer Methoden unter Berücksichtigung der rechtlichen und ökonomischen Rahmenbedingungen. Ihre fachlich unabhängige Expertise setzen sie in Unternehmen\, öffentlichen Einrichtungen oder als Selbstständige zum Nutzen der Kundinnen und Kunden sowie für Aufsichtszwecke ein. \nZur Förderung des Berufsstands verlangt die AVÖ (Aktuarvereinigung Österreichs) vor der Aufnahme in die Sektion Anerkannter Aktuare unter anderem die Teilnahme an einem berufsständischen Seminar. Die Inhalte entsprechen internationalen Anforderungen\, insbesondere jenen des IAA Education Syllabus. \nZur Teilnahme am Seminar sind auch Anerkannte Aktuarinnen und Aktuare herzlich eingeladen\, diese können für die Teilnahme sechs CPD-Punkte erwerben. \nZeitplan: \nBegrüßung \n\nBerufsbild Aktuar\nRechtliche Anforderungen\n\nKaffeepause 10:15-10:30 \n\nAktuarielle Funktion\, Solvency 2\nVerantwortlicher Aktuar\n\nMittagessen 12:00 – 13:00 \n\nCPD\nStandesrecht\nVersicherungsverband Österreichs\n\nKaffeepause 15:00 – 15:15 \n\nInternationale Organisationen\nWirtschaftsprüfung und Beratung
URL:https://avoe.at/event/abgesagt-berufsstaendisches-seminar/
LOCATION:Hotel Regina\, Rooseveltplatz 15\, Wien\, 1090\, Österreich
ORGANIZER;CN="%C3%96FdV GmbH":MAILTO:sekretariat@oefdv-gmbh.at
END:VEVENT
END:VCALENDAR